BEGIN:VCALENDAR
VERSION:2.0
PRODID:-//Wirchilleozha - ECPv6.15.13//NONSGML v1.0//EN
CALSCALE:GREGORIAN
METHOD:PUBLISH
X-ORIGINAL-URL:https://wirchilleozha.ch
X-WR-CALDESC:Veranstaltungen für Wirchilleozha
REFRESH-INTERVAL;VALUE=DURATION:PT1H
X-Robots-Tag:noindex
X-PUBLISHED-TTL:PT1H
BEGIN:VTIMEZONE
TZID:Europe/Zurich
BEGIN:DAYLIGHT
TZOFFSETFROM:+0100
TZOFFSETTO:+0200
TZNAME:CEST
DTSTART:20240331T010000
END:DAYLIGHT
BEGIN:STANDARD
TZOFFSETFROM:+0200
TZOFFSETTO:+0100
TZNAME:CET
DTSTART:20241027T010000
END:STANDARD
BEGIN:DAYLIGHT
TZOFFSETFROM:+0100
TZOFFSETTO:+0200
TZNAME:CEST
DTSTART:20250330T010000
END:DAYLIGHT
BEGIN:STANDARD
TZOFFSETFROM:+0200
TZOFFSETTO:+0100
TZNAME:CET
DTSTART:20251026T010000
END:STANDARD
BEGIN:DAYLIGHT
TZOFFSETFROM:+0100
TZOFFSETTO:+0200
TZNAME:CEST
DTSTART:20260329T010000
END:DAYLIGHT
BEGIN:STANDARD
TZOFFSETFROM:+0200
TZOFFSETTO:+0100
TZNAME:CET
DTSTART:20261025T010000
END:STANDARD
END:VTIMEZONE
BEGIN:VEVENT
DTSTART;TZID=Europe/Zurich:20250801T140000
DTEND;TZID=Europe/Zurich:20250801T233000
DTSTAMP:20260423T173718
CREATED:20250202T173605Z
LAST-MODIFIED:20250202T173605Z
UID:268-1754056800-1754091000@wirchilleozha.ch
SUMMARY:1. August Böötle und Bröötle
DESCRIPTION:
URL:https://wirchilleozha.ch/event/1-august-boeoetle-und-broeoetle/
CATEGORIES:Open Event
ATTACH;FMTTYPE=image/jpeg:https://wirchilleozha.ch/wp-content/uploads/2024/02/louis-hansel-fbB-fsA6ovs-unsplash-scaled.jpg
END:VEVENT
END:VCALENDAR