BEGIN:VCALENDAR
VERSION:2.0
PRODID:-//Wirchilleozha - ECPv6.15.13//NONSGML v1.0//EN
CALSCALE:GREGORIAN
METHOD:PUBLISH
X-ORIGINAL-URL:https://wirchilleozha.ch
X-WR-CALDESC:Veranstaltungen für Wirchilleozha
REFRESH-INTERVAL;VALUE=DURATION:PT1H
X-Robots-Tag:noindex
X-PUBLISHED-TTL:PT1H
BEGIN:VTIMEZONE
TZID:Europe/Zurich
BEGIN:DAYLIGHT
TZOFFSETFROM:+0100
TZOFFSETTO:+0200
TZNAME:CEST
DTSTART:20250330T010000
END:DAYLIGHT
BEGIN:STANDARD
TZOFFSETFROM:+0200
TZOFFSETTO:+0100
TZNAME:CET
DTSTART:20251026T010000
END:STANDARD
BEGIN:DAYLIGHT
TZOFFSETFROM:+0100
TZOFFSETTO:+0200
TZNAME:CEST
DTSTART:20260329T010000
END:DAYLIGHT
BEGIN:STANDARD
TZOFFSETFROM:+0200
TZOFFSETTO:+0100
TZNAME:CET
DTSTART:20261025T010000
END:STANDARD
BEGIN:DAYLIGHT
TZOFFSETFROM:+0100
TZOFFSETTO:+0200
TZNAME:CEST
DTSTART:20270328T010000
END:DAYLIGHT
BEGIN:STANDARD
TZOFFSETFROM:+0200
TZOFFSETTO:+0100
TZNAME:CET
DTSTART:20271031T010000
END:STANDARD
END:VTIMEZONE
BEGIN:VEVENT
DTSTART;VALUE=DATE:20260523
DTEND;VALUE=DATE:20260524
DTSTAMP:20260421T144113
CREATED:20251231T095657Z
LAST-MODIFIED:20251231T100138Z
UID:289-1779494400-1779580799@wirchilleozha.ch
SUMMARY:Wirchilleozha Wanderung
DESCRIPTION:
URL:https://wirchilleozha.ch/event/wirchilleozha-wanderung/
CATEGORIES:Open Event
ATTACH;FMTTYPE=image/jpeg:https://wirchilleozha.ch/wp-content/uploads/2024/02/colton-duke-QRU0i5AqEJA-unsplash-scaled.jpg
END:VEVENT
END:VCALENDAR