BEGIN:VCALENDAR
VERSION:2.0
PRODID:-//Wirchilleozha - ECPv6.15.13//NONSGML v1.0//EN
CALSCALE:GREGORIAN
METHOD:PUBLISH
X-ORIGINAL-URL:https://wirchilleozha.ch
X-WR-CALDESC:Veranstaltungen für Wirchilleozha
REFRESH-INTERVAL;VALUE=DURATION:PT1H
X-Robots-Tag:noindex
X-PUBLISHED-TTL:PT1H
BEGIN:VTIMEZONE
TZID:Europe/Zurich
BEGIN:DAYLIGHT
TZOFFSETFROM:+0100
TZOFFSETTO:+0200
TZNAME:CEST
DTSTART:20250330T010000
END:DAYLIGHT
BEGIN:STANDARD
TZOFFSETFROM:+0200
TZOFFSETTO:+0100
TZNAME:CET
DTSTART:20251026T010000
END:STANDARD
BEGIN:DAYLIGHT
TZOFFSETFROM:+0100
TZOFFSETTO:+0200
TZNAME:CEST
DTSTART:20260329T010000
END:DAYLIGHT
BEGIN:STANDARD
TZOFFSETFROM:+0200
TZOFFSETTO:+0100
TZNAME:CET
DTSTART:20261025T010000
END:STANDARD
BEGIN:DAYLIGHT
TZOFFSETFROM:+0100
TZOFFSETTO:+0200
TZNAME:CEST
DTSTART:20270328T010000
END:DAYLIGHT
BEGIN:STANDARD
TZOFFSETFROM:+0200
TZOFFSETTO:+0100
TZNAME:CET
DTSTART:20271031T010000
END:STANDARD
BEGIN:DAYLIGHT
TZOFFSETFROM:+0100
TZOFFSETTO:+0200
TZNAME:CEST
DTSTART:20280326T010000
END:DAYLIGHT
BEGIN:STANDARD
TZOFFSETFROM:+0200
TZOFFSETTO:+0100
TZNAME:CET
DTSTART:20281029T010000
END:STANDARD
END:VTIMEZONE
BEGIN:VEVENT
DTSTART;VALUE=DATE:20260523
DTEND;VALUE=DATE:20260524
DTSTAMP:20260421T115053
CREATED:20251231T095657Z
LAST-MODIFIED:20251231T100138Z
UID:289-1779494400-1779580799@wirchilleozha.ch
SUMMARY:Wirchilleozha Wanderung
DESCRIPTION:
URL:https://wirchilleozha.ch/event/wirchilleozha-wanderung/
CATEGORIES:Open Event
ATTACH;FMTTYPE=image/jpeg:https://wirchilleozha.ch/wp-content/uploads/2024/02/colton-duke-QRU0i5AqEJA-unsplash-scaled.jpg
END:VEVENT
BEGIN:VEVENT
DTSTART;VALUE=DATE:20260620
DTEND;VALUE=DATE:20260622
DTSTAMP:20260421T115053
CREATED:20260103T101424Z
LAST-MODIFIED:20260103T101424Z
UID:304-1781913600-1782086399@wirchilleozha.ch
SUMMARY:Waldübernachtung
DESCRIPTION:
URL:https://wirchilleozha.ch/event/walduebernachtung/
CATEGORIES:Open Event
ATTACH;FMTTYPE=image/jpeg:https://wirchilleozha.ch/wp-content/uploads/2026/01/scott-goodwill-y8Ngwq34_Ak-unsplash-scaled.jpg
END:VEVENT
BEGIN:VEVENT
DTSTART;VALUE=DATE:20260801
DTEND;VALUE=DATE:20260802
DTSTAMP:20260421T115053
CREATED:20251231T095840Z
LAST-MODIFIED:20251231T095840Z
UID:293-1785542400-1785628799@wirchilleozha.ch
SUMMARY:Böötle & Bröötle
DESCRIPTION:
URL:https://wirchilleozha.ch/event/boeoetle-broeoetle/
CATEGORIES:Open Event
ATTACH;FMTTYPE=image/jpeg:https://wirchilleozha.ch/wp-content/uploads/2024/02/louis-hansel-fbB-fsA6ovs-unsplash-scaled.jpg
END:VEVENT
BEGIN:VEVENT
DTSTART;TZID=Europe/Zurich:20260829T160000
DTEND;TZID=Europe/Zurich:20260829T233000
DTSTAMP:20260421T115053
CREATED:20260103T101234Z
LAST-MODIFIED:20260103T101234Z
UID:301-1788019200-1788046200@wirchilleozha.ch
SUMMARY:Pizzaplausch bei Claudio
DESCRIPTION:
URL:https://wirchilleozha.ch/event/pizzaplausch-bei-claudio/
CATEGORIES:Open Event
ATTACH;FMTTYPE=image/jpeg:https://wirchilleozha.ch/wp-content/uploads/2026/01/nik-owens-40OJLYVWeeM-unsplash-scaled.jpg
END:VEVENT
BEGIN:VEVENT
DTSTART;TZID=Europe/Zurich:20260918T190000
DTEND;TZID=Europe/Zurich:20260918T233000
DTSTAMP:20260421T115053
CREATED:20251231T095757Z
LAST-MODIFIED:20260103T100936Z
UID:291-1789758000-1789774200@wirchilleozha.ch
SUMMARY:Vereinsversammlung
DESCRIPTION:
URL:https://wirchilleozha.ch/event/vereinsversammlung/
CATEGORIES:Members only
ATTACH;FMTTYPE=image/jpeg:https://wirchilleozha.ch/wp-content/uploads/2025/02/kelsey-knight-udj2tD3WKsY-unsplash-scaled.jpg
END:VEVENT
BEGIN:VEVENT
DTSTART;TZID=Europe/Zurich:20261030T190000
DTEND;TZID=Europe/Zurich:20261030T233000
DTSTAMP:20260421T115053
CREATED:20251231T095922Z
LAST-MODIFIED:20260103T101127Z
UID:295-1793386800-1793403000@wirchilleozha.ch
SUMMARY:Herbsttreff 2026
DESCRIPTION:
URL:https://wirchilleozha.ch/event/herbsttreff-2026/
CATEGORIES:Open Event
ATTACH;FMTTYPE=image/jpeg:https://wirchilleozha.ch/wp-content/uploads/2022/02/Herbsttreff-scaled.jpg
END:VEVENT
BEGIN:VEVENT
DTSTART;TZID=Europe/Zurich:20261212T160000
DTEND;TZID=Europe/Zurich:20261212T230000
DTSTAMP:20260421T115053
CREATED:20251231T100019Z
LAST-MODIFIED:20251231T100019Z
UID:297-1797091200-1797116400@wirchilleozha.ch
SUMMARY:Winterzauber 2026: Altberg
DESCRIPTION:
URL:https://wirchilleozha.ch/event/winterzauber-2026-altberg/
CATEGORIES:Open Event
ATTACH;FMTTYPE=image/jpeg:https://wirchilleozha.ch/wp-content/uploads/2024/02/george-bakos-Jmcji4k5cK0-unsplash-scaled.jpg
END:VEVENT
BEGIN:VEVENT
DTSTART;TZID=Europe/Zurich:20270220T180000
DTEND;TZID=Europe/Zurich:20270220T233000
DTSTAMP:20260421T115053
CREATED:20251231T100107Z
LAST-MODIFIED:20251231T100107Z
UID:299-1803146400-1803166200@wirchilleozha.ch
SUMMARY:Generalversammlung 2027
DESCRIPTION:
URL:https://wirchilleozha.ch/event/generalversammlung-2027/
ATTACH;FMTTYPE=image/jpeg:https://wirchilleozha.ch/wp-content/uploads/2021/09/linde-Baden.jpg
END:VEVENT
END:VCALENDAR