BEGIN:VCALENDAR
VERSION:2.0
PRODID:-//Wirchilleozha - ECPv6.15.13//NONSGML v1.0//EN
CALSCALE:GREGORIAN
METHOD:PUBLISH
X-WR-CALNAME:Wirchilleozha
X-ORIGINAL-URL:https://wirchilleozha.ch
X-WR-CALDESC:Veranstaltungen für Wirchilleozha
REFRESH-INTERVAL;VALUE=DURATION:PT1H
X-Robots-Tag:noindex
X-PUBLISHED-TTL:PT1H
BEGIN:VTIMEZONE
TZID:Europe/Zurich
BEGIN:DAYLIGHT
TZOFFSETFROM:+0100
TZOFFSETTO:+0200
TZNAME:CEST
DTSTART:20250330T010000
END:DAYLIGHT
BEGIN:STANDARD
TZOFFSETFROM:+0200
TZOFFSETTO:+0100
TZNAME:CET
DTSTART:20251026T010000
END:STANDARD
BEGIN:DAYLIGHT
TZOFFSETFROM:+0100
TZOFFSETTO:+0200
TZNAME:CEST
DTSTART:20260329T010000
END:DAYLIGHT
BEGIN:STANDARD
TZOFFSETFROM:+0200
TZOFFSETTO:+0100
TZNAME:CET
DTSTART:20261025T010000
END:STANDARD
BEGIN:DAYLIGHT
TZOFFSETFROM:+0100
TZOFFSETTO:+0200
TZNAME:CEST
DTSTART:20270328T010000
END:DAYLIGHT
BEGIN:STANDARD
TZOFFSETFROM:+0200
TZOFFSETTO:+0100
TZNAME:CET
DTSTART:20271031T010000
END:STANDARD
END:VTIMEZONE
BEGIN:VEVENT
DTSTART;TZID=Europe/Zurich:20261030T190000
DTEND;TZID=Europe/Zurich:20261030T233000
DTSTAMP:20260422T045009
CREATED:20251231T095922Z
LAST-MODIFIED:20260103T101127Z
UID:295-1793386800-1793403000@wirchilleozha.ch
SUMMARY:Herbsttreff 2026
DESCRIPTION:
URL:https://wirchilleozha.ch/event/herbsttreff-2026/
CATEGORIES:Open Event
ATTACH;FMTTYPE=image/jpeg:https://wirchilleozha.ch/wp-content/uploads/2022/02/Herbsttreff-scaled.jpg
END:VEVENT
END:VCALENDAR